BEGIN:VCALENDAR
VERSION:2.0
PRODID:-//Kenya-GB diaspora sacco - ECPv6.15.20//NONSGML v1.0//EN
CALSCALE:GREGORIAN
METHOD:PUBLISH
X-WR-CALNAME:Kenya-GB diaspora sacco
X-ORIGINAL-URL:https://kgbdiasporasacco.com
X-WR-CALDESC:Events for Kenya-GB diaspora sacco
REFRESH-INTERVAL;VALUE=DURATION:PT1H
X-Robots-Tag:noindex
X-PUBLISHED-TTL:PT1H
BEGIN:VTIMEZONE
TZID:UTC
BEGIN:STANDARD
TZOFFSETFROM:+0000
TZOFFSETTO:+0000
TZNAME:UTC
DTSTART:20230101T000000
END:STANDARD
END:VTIMEZONE
BEGIN:VEVENT
DTSTART;TZID=UTC:20240824T150000
DTEND;TZID=UTC:20240824T230000
DTSTAMP:20260423T125339
CREATED:20240719T113526Z
LAST-MODIFIED:20240719T113705Z
UID:6420-1724511600-1724540400@kgbdiasporasacco.com
SUMMARY:SUMMER GET TOGETHER
DESCRIPTION:UK Based Kenyan Construction Professionals
URL:https://kgbdiasporasacco.com/event/summer-get-together/
LOCATION:Nash Mill Village Hall\, Lower Rd Hemel\, Hempsted\, HP3 8RT\, United Kingdom
END:VEVENT
BEGIN:VEVENT
DTSTART;TZID=UTC:20240803T120000
DTEND;TZID=UTC:20240803T210000
DTSTAMP:20260423T125340
CREATED:20240722T112608Z
LAST-MODIFIED:20240722T112608Z
UID:6470-1722686400-1722718800@kgbdiasporasacco.com
SUMMARY:Kenya Family Day-Reading
DESCRIPTION:Come meet our officials.
URL:https://kgbdiasporasacco.com/event/kenya-family-day-reading/
LOCATION:Atrium Health Club\, Scours Lane\, Reading\, RG30 6AY\, United Kingdom
END:VEVENT
BEGIN:VEVENT
DTSTART;TZID=UTC:20240720T143000
DTEND;TZID=UTC:20240720T220000
DTSTAMP:20260423T125340
CREATED:20240708T102226Z
LAST-MODIFIED:20240708T102226Z
UID:6160-1721485800-1721512800@kgbdiasporasacco.com
SUMMARY:Summer Get Together-Luton
DESCRIPTION:Please come meet our officials
URL:https://kgbdiasporasacco.com/event/summer-get-together-luton/
LOCATION:Raynham Way Community Center\, Eaton Green Rd\, Luton\, Luton\, LU2 9JE\, United Kingdom
END:VEVENT
BEGIN:VEVENT
DTSTART;TZID=UTC:20240713T140000
DTEND;TZID=UTC:20240713T200000
DTSTAMP:20260423T125340
CREATED:20240621T142007Z
LAST-MODIFIED:20240621T161723Z
UID:5929-1720879200-1720900800@kgbdiasporasacco.com
SUMMARY:Summer Family Fun Day-Slough
DESCRIPTION:Please visit our stand at this event and meet our officials
URL:https://kgbdiasporasacco.com/event/summer-family-fun-day-slough/
LOCATION:Stoke Park Trust\, 255-227 Northern Road\, SN2 7AP\, Slough\, United Kingdom
END:VEVENT
BEGIN:VEVENT
DTSTART;TZID=UTC:20240713T120000
DTEND;TZID=UTC:20240713T200000
DTSTAMP:20260423T125340
CREATED:20240708T100140Z
LAST-MODIFIED:20240708T124003Z
UID:6154-1720872000-1720900800@kgbdiasporasacco.com
SUMMARY:Kenya Community in the park-Northampton
DESCRIPTION:Please come meet our officials
URL:https://kgbdiasporasacco.com/event/kenya-community-in-the-park-northampton/
LOCATION:White Northampton\, NN6 OEP\, White Nurseries\, Northampton\, NN6 OEP\, United Kingdom
END:VEVENT
BEGIN:VEVENT
DTSTART;TZID=UTC:20240707T120000
DTEND;TZID=UTC:20240707T120000
DTSTAMP:20260423T125340
CREATED:20240627T090435Z
LAST-MODIFIED:20240703T092725Z
UID:6006-1720353600-1720353600@kgbdiasporasacco.com
SUMMARY:Summer BBQ 2024-Coventry
DESCRIPTION:Please come meet our officials
URL:https://kgbdiasporasacco.com/event/summer-bbq-agm-2024/
LOCATION:Indigo Afro Spot\, 151 Warwick Road\, Coventry\, Coventry\, CV3 6AU\, United Kingdom
ORGANIZER;CN="Kenya-Great Britain Diaspora Sacco":MAILTO:info@kgbdiasporasacco.com
END:VEVENT
BEGIN:VEVENT
DTSTART;TZID=UTC:20240629T120000
DTEND;TZID=UTC:20240629T200000
DTSTAMP:20260423T125340
CREATED:20240621T120222Z
LAST-MODIFIED:20240621T161634Z
UID:5856-1719662400-1719691200@kgbdiasporasacco.com
SUMMARY:Kenyan's Fun Day - Swindon
DESCRIPTION:Please Visit our display stand at this event and meet some of our officials
URL:https://kgbdiasporasacco.com/event/kenyans-fun-day-swindon/
LOCATION:610 Cricklade Road\, Swindon\, SN2 7AP\, Swindon\, United Kingdom
CATEGORIES:KGBDS EVENTS,Our Public Engagements
END:VEVENT
END:VCALENDAR